Workbook
Name 子女_一: oo輸入檔oo!$E$2:$E$13
Name 子女_二: oo輸入檔oo!$F$2:$F$13
Name 子女_三: oo輸入檔oo!$G$2:$G$13
Name 工作內容_含兼業: oo輸入檔oo!$B$5:$I$5
Name 公司電話及分機: oo輸入檔oo!$B$13:$I$13
Name 分會別: oo輸入檔oo!$B$11:$I$11
Name 父親: oo輸入檔oo!$H$2:$H$13
Name 出生日期_民國年_月_日: oo輸入檔oo!$B$4:$I$4
Name 本人: oo輸入檔oo!$C$2:$C$13
Name 母親: oo輸入檔oo!$I$2:$I$13
Name 身分證字號: oo輸入檔oo!$B$3:$I$3
Name 受益人姓名: oo輸入檔oo!$B$7:$I$7
Name 受益人連絡地址: oo輸入檔oo!#REF!
Name 受益人連絡電話: oo輸入檔oo!#REF!
Name 姓名: oo輸入檔oo!$B$2:$I$2
Name 計畫別: oo輸入檔oo!$B$6:$I$6
Name 員工編號及電子信箱: oo輸入檔oo!$B$9:$I$9
Name 配偶: oo輸入檔oo!$D$2:$D$13
Name 通訊地址: oo輸入檔oo!$B$10:$I$10
Name 會員手機號碼: oo輸入檔oo!$B$12:$I$12
Name 與被保險人關係: oo輸入檔oo!$B$8:$I$8
Name 與會員關係: oo輸入檔oo!$B$2:$I$13
Name 範例: oo輸入檔oo!$B$2:$B$13
Name 輸入檔: oo輸入檔oo!$A$1:$I$13

Sheet oo輸入檔oo
A1: 與會員關係 | B1: 範例 | C1: 本人 | D1: 配偶 | E1: 子女(一) | F1: 子女(二) | G1: 子女(三) | H1: 父親 | I1: 母親 | J1: 配偶父親 | K1: 配偶母親 | M1: 參加表列印檔
A2: 姓名 | B2: 陳小琳
A3: 身分證字號 | B3: A226456789
A4: 出生日期(民國年/月/日) | B4: 81/12/18
A5: 工作內容(含兼業) | B5: 內勤人員
A6: 計畫別 | B6: 計畫一 | C6: 計畫一 | D6: 計畫一 | H6: 計畫二 | I6: 計畫二 | J6: 計畫二 | K6: 計畫二
A7: 受益人姓名 | B7: 法定繼承人
A8: 與被保險人關係 | B8: 其他
A9: 員工編號及電子信箱 | B9: u123456@taipower.com.tw
A10: 通訊地址 | B10: 台北市信義區基隆路一段176號3樓
A11: 分會別 | B11: 1/總管理處
A12: 會員手機號碼 | B12: 0910111000
A13: 公司電話及分機 | B13: 02-27562200#3986

Sheet 列印檔【自費80】參加表
A1: 台灣電力工會 | I1: 分會用印處
A2: 會員及眷屬自費參加團體保險計畫申請書暨說明書
A3: 會員資料：
A4: 會員姓名 | C4: =oo輸入檔oo!C2 -> 0 | G4: 分會別 | I4: =oo輸入檔oo!C11 -> 0
A5: 員工編號及電子信箱 | C5: =oo輸入檔oo!C9 -> 0 | G5: 會員手機號碼 | I5: =oo輸入檔oo!C12 -> 0
A6: 通訊地址 | C6: =oo輸入檔oo!C10 -> 0 | G6: 公司電話及分機 | I6: =oo輸入檔oo!C13 -> 0
A8: 被保險人資料及參加計畫別：(會員本人同意參加本計畫並授權總會自本人薪資中按月扣抵保費)
A9: 與會員 關係 | B9: 被保險人親簽 | C9: 身分證字號 | E9: 出生日期 | F9: 工作內容 | G9: 計畫別 | H9: 受益人姓名 | I9: 與被保險人關係 | K9: 法定代理人 簽名
B10: (請字跡工整) | E10: (民國年/月/日) | F10: (含兼業)
A11: 本人 | B11: =oo輸入檔oo!C2 -> 0 | C11: =oo輸入檔oo!C3 -> 0 | E11: =oo輸入檔oo!C4 -> 0 | F11: =oo輸入檔oo!C5 -> 0 | G11: 計畫一 | H11: =oo輸入檔oo!C7 -> 0 | I11: =oo輸入檔oo!C8 -> 0 | J11: =oo輸入檔oo!E7 -> 0
A12: 配偶 | B12: =oo輸入檔oo!D2 -> 0 | C12: =oo輸入檔oo!D3 -> 0 | E12: =oo輸入檔oo!D4 -> 0 | F12: =oo輸入檔oo!D5 -> 0 | G12: 計畫一 | H12: =oo輸入檔oo!D7 -> 0 | I12: =oo輸入檔oo!D8 -> 0 | J12: =oo輸入檔oo!E8 -> 0
A13: 子女(一) | B13: =oo輸入檔oo!E2 -> 0 | C13: =oo輸入檔oo!E3 -> 0 | E13: =oo輸入檔oo!E4 -> 0 | F13: =oo輸入檔oo!E5 -> 0 | G13: =oo輸入檔oo!E6 -> 0 | H13: =oo輸入檔oo!E7 -> 0 | I13: =oo輸入檔oo!E8 -> 0 | J13: =oo輸入檔oo!E9 -> 0 | K13: 未滿20歲須簽
A14: 子女(二) | B14: =oo輸入檔oo!F2 -> 0 | C14: =oo輸入檔oo!F3 -> 0 | E14: =oo輸入檔oo!F4 -> 0 | F14: =oo輸入檔oo!F5 -> 0 | G14: =oo輸入檔oo!F6 -> 0 | H14: =oo輸入檔oo!F7 -> 0 | I14: =oo輸入檔oo!F8 -> 0 | J14: =oo輸入檔oo!E10 -> 0 | K14: 未滿20歲須簽
A15: 子女(三) | B15: =oo輸入檔oo!G2 -> 0 | C15: =oo輸入檔oo!G3 -> 0 | E15: =oo輸入檔oo!G4 -> 0 | F15: =oo輸入檔oo!G5 -> 0 | G15: =oo輸入檔oo!G6 -> 0 | H15: =oo輸入檔oo!G7 -> 0 | I15: =oo輸入檔oo!G8 -> 0 | J15: =oo輸入檔oo!E11 -> 0 | K15: 未滿20歲須簽
A16: 父親 | B16: =oo輸入檔oo!H2 -> 0 | C16: =oo輸入檔oo!H3 -> 0 | E16: =oo輸入檔oo!H4 -> 0 | F16: =oo輸入檔oo!H5 -> 0 | G16: 計畫二 | H16: =oo輸入檔oo!H7 -> 0 | I16: =oo輸入檔oo!H8 -> 0 | J16: =oo輸入檔oo!E12 -> 0
A17: 母親 | B17: =oo輸入檔oo!I2 -> 0 | C17: =oo輸入檔oo!I3 -> 0 | E17: =oo輸入檔oo!I4 -> 0 | F17: =oo輸入檔oo!I5 -> 0 | G17: 計畫二 | H17: =oo輸入檔oo!I7 -> 0 | I17: =oo輸入檔oo!I8 -> 0 | J17: =oo輸入檔oo!E13 -> 0
A18: 配偶父親 | B18: =oo輸入檔oo!J2 -> 0 | C18: =oo輸入檔oo!J3 -> 0 | E18: =oo輸入檔oo!J4 -> 0 | F18: =oo輸入檔oo!J5 -> 0 | G18: 計畫二 | H18: =oo輸入檔oo!J7 -> 0 | I18: =oo輸入檔oo!J8 -> 0 | J18: =oo輸入檔oo!E14 -> 0
A19: 配偶母親 | B19: =oo輸入檔oo!K2 -> 0 | C19: =oo輸入檔oo!K3 -> 0 | E19: =oo輸入檔oo!K4 -> 0 | F19: =oo輸入檔oo!K5 -> 0 | G19: 計畫二 | H19: =oo輸入檔oo!K7 -> 0 | I19: =oo輸入檔oo!K8 -> 0 | J19: =oo輸入檔oo!E15 -> 0
A20: =oo輸入檔oo!L1 -> 0 | B20: =oo輸入檔oo!L2 -> 0 | C20: =oo輸入檔oo!L3 -> 0 | E20: =oo輸入檔oo!L4 -> 0 | F20: =oo輸入檔oo!L5 -> 0 | G20: =oo輸入檔oo!L6 -> 0 | H20: =oo輸入檔oo!L7 -> 0 | I20: =oo輸入檔oo!L8 -> 0 | J20: =oo輸入檔oo!E16 -> 0 | K20: 未滿20歲須簽
A21: 1.受益人限直系親屬，若無指定時受益人為法定繼承人之順序。未滿15足歲失能及醫療保險金之受益人為被保險人本人。 2.受益人指定二人以上，除特別指定比例或順位給付方式外，由該項保險金之所有受益人平均分配。 3.被保險人親簽：未滿7足歲者由法代代為親簽，7足歲(含)以上者由本人親簽。被保險人未滿20足歲者，需其法定代理人簽名。 ※身故保險金受益人如係身分別之指定及如有要保人不同意填寫受益人之聯絡地址及電話之情形，則以要保人最後所留之聯絡方式作為日後身故保險金受益人之通知依據。 (受益人姓名/連絡電話/連絡地址： )
A23: 投保規定說明：
A24: 1.承保對象為台灣電力工會會員及其眷屬，會員必須投保，眷屬方可投保。因離職、退休等喪失被保險人資格時，請填寫不繼 續參加表，其保險效力維持至該月保險費屆滿為止(眷屬保險效力同會員)。會員需符合會員資格，眷屬僅包含會員之配偶、 子女、父母、配偶父母。每一被保險人不得重複投保本專案。 2.配偶、父母、配偶父母新續保年齡最高可至80足歲，子女承保年齡為出生滿一個月且正常出院至23足歲，在學未婚者可延至 25足歲(請提供在學證明)。 3.投保時請檢附本申請書(以"戶"為單位)；如領有身心障礙手冊，請檢附正、反面影本(請說明機能障礙部位及造成原因)。 4.工作內容請明確說明，盡力避免含糊之名詞。自由業仍需詳述其工作內容，同時有兩種或兩種以上之職業（含兼業）者，應 以較危險之工作內容來評估職業等級。除會員本人外，投保人員職業以第1-4類為限，第5-6類不予承保(職業類別之認定依 本公司核保準則為認定標準，本公司保留審核職業類別是否接受投保之權利。) 5.滿15足歲之子女限投保計畫二；未滿15足歲之子女限投保計畫三(不含身故保險金)。 6.本申請書若有塗改請被保險人於塗改處簽名確認，未加保者勿填寫以免被扣款。
A26: 給付項目/保險金額(單位：新臺幣/元) | F26: 計畫一 | H26: 計畫二 | J26: 計畫三
F27: 會員本人、配偶 | H27: 會員及配偶之父母 、子女15足歲以上 | J27: 會員子女 15足歲以下
A28: 1. | B28: 一般意外身故保險金 | F28: 300萬 | H28: 100萬 | J28: -
A29: 2. | B29: 一般意外失能保險金(5%-100%) | F29: 300萬 | H29: 100萬 | J29: 100萬
A30: 3. | B30: 搭乘大眾運輸工具意外身故失能保險金(增額給付) | F30: 100萬 | H30: 100萬 | J30: 100萬
A31: 4. | B31: 重大燒燙傷比例保險金(15%-100%) | F31: 50萬 | H31: 50萬 | J31: 50萬
A32: 5. | B32: 傷害醫療實支實付保險金(收據副本可申請) | F32: 1萬 | H32: 1萬 | J32: 1萬
A33: 6. | B33: 傷害醫療住院日額保險金(最高90日) | F33: 1000 | H33: 1000 | J33: 1000
A34: 月繳保費/人 | F34: 80元 | H34: 45元 | J34: 45元

Sheet 列印檔【自費80】不繼續參加名冊
A1: 台灣電力工會 (不繼續參加表) | H1: 分會用印處
A2: 會員及眷屬不繼續自費參加團體保險計畫申請書暨說明書
A3: 會員資料：
A4: 會員姓名 | C4: =oo輸入檔oo!C2 -> 0 | F4: 分會別 | H4: =oo輸入檔oo!C11 -> 0
A5: 員工編號 | C5: =oo輸入檔oo!C9 -> 0 | F5: 會員手機號碼 | H5: =oo輸入檔oo!C12 -> 0
A6: 通訊地址 | C6: =oo輸入檔oo!C10 -> 0 | F6: 公司電話及分機 | H6: =oo輸入檔oo!C13 -> 0
A8: 被保險人資料及不繼續參加計畫別：
A9: 與會員 關係 | C9: 被保險人親簽 (請字跡工整) | F9: 身分證字號 | H9: 計畫別
A11: 本人 | C11: =oo輸入檔oo!C2 -> 0 | D11: =oo輸入檔oo!#REF! -> #REF! | E11: =oo輸入檔oo!#REF! -> #REF! | F11: =oo輸入檔oo!C3 -> 0 | H11: 計畫一
A12: 配偶 | C12: =oo輸入檔oo!D2 -> 0 | D12: =oo輸入檔oo!F1 -> 子女(二) | E12: =oo輸入檔oo!G1 -> 子女(三) | F12: =oo輸入檔oo!D3 -> 0 | H12: 計畫一
A13: 子女(一) | C13: =oo輸入檔oo!E2 -> 0 | D13: =oo輸入檔oo!F2 -> 0 | E13: =oo輸入檔oo!G2 -> 0 | F13: =oo輸入檔oo!E3 -> 0 | H13: =oo輸入檔oo!E6 -> 0
A14: 子女(二) | C14: =oo輸入檔oo!F2 -> 0 | D14: =oo輸入檔oo!G2 -> 0 | E14: =oo輸入檔oo!H2 -> 0 | F14: =oo輸入檔oo!F3 -> 0 | H14: =oo輸入檔oo!F6 -> 0
A15: 子女(三) | C15: =oo輸入檔oo!G2 -> 0 | D15: =oo輸入檔oo!H2 -> 0 | E15: =oo輸入檔oo!I2 -> 0 | F15: =oo輸入檔oo!G3 -> 0 | H15: =oo輸入檔oo!G6 -> 0
A16: 父親 | C16: =oo輸入檔oo!H2 -> 0 | D16: =oo輸入檔oo!I2 -> 0 | E16: =oo輸入檔oo!J2 -> 0 | F16: =oo輸入檔oo!H3 -> 0 | H16: 計畫二
A17: 母親 | C17: =oo輸入檔oo!I2 -> 0 | D17: =oo輸入檔oo!J2 -> 0 | E17: =oo輸入檔oo!K2 -> 0 | F17: =oo輸入檔oo!I3 -> 0 | H17: 計畫二
A18: 配偶父親 | C18: =oo輸入檔oo!J2 -> 0 | D18: =oo輸入檔oo!K2 -> 0 | E18: =oo輸入檔oo!L2 -> 0 | F18: =oo輸入檔oo!J3 -> 0 | H18: 計畫二
A19: 配偶母親 | C19: =oo輸入檔oo!K2 -> 0 | D19: =oo輸入檔oo!L2 -> 0 | E19: =oo輸入檔oo!M2 -> 0 | F19: =oo輸入檔oo!K3 -> 0 | H19: 計畫二
A20: =oo輸入檔oo!L1 -> 0 | C20: =oo輸入檔oo!L2 -> 0 | D20: =oo輸入檔oo!M2 -> 0 | E20: =oo輸入檔oo!N2 -> 0 | F20: =oo輸入檔oo!L3 -> 0 | H20: =oo輸入檔oo!L6 -> 0
A22: 不繼續自費參加投保規定說明：
A23: 1.請先確認欲申請「不繼續投保」才填寫，續保加保者請勿填寫。 2.本申請書若有塗改請被保險人於塗改處簽名確認。 3.申請不繼續投保，請將保險證一併繳回，遺失者請附上保險文件遺失聲明書。 4.填寫本表後請於當月25日前交至工會福利處，福利處轉交保險公司簽收後，將於次月1日零時（或保險費屆滿 為止）生效。
A25: 給付項目/保險金額 | E25: 計畫一 | G25: 計畫二 | I25: 計畫三
E26: 會員本人、配偶 | G26: 會員及配偶之父母、 子女15足歲以上 | I26: 會員子女15足歲以下
A27: 一般意外身故保險金 | E27: 300萬 | G27: 100萬 | I27: -
A28: 一般意外失能保險金(5%-100%) | E28: 300萬 | G28: 100萬 | I28: 100萬
A29: 搭乘大眾運輸工具意外身故失能保險金(增額給付) | E29: 100萬 | G29: 100萬 | I29: 100萬
A30: 重大燒燙傷比例保險金(15%-100%) | E30: 50萬 | G30: 50萬 | I30: 50萬
A31: 傷害醫療實支實付保險金(收據副本可申請) | E31: 1萬 | G31: 1萬 | I31: 1萬
A32: 傷害醫療住院日額保險金(最高90日) | E32: 1000 | G32: 1000 | I32: 1000
A33: 月繳保費/人 | E33: 80元 | G33: 45元 | I33: 45元
A35: 保險文件遺失聲明書
A36: 茲聲明 被保險人_______________________________________________________________之保險證因遺失，僅向 貴
A37: 公司聲明作廢，嗣後如有因遺失涉及保險效益及法律糾紛問題，立書人願負擔全部責任，概與 貴公司無關。 此致 華南產物保險股份有限公司
E38: 立書人姓名(簽章)： _____________________________________
